BEGIN:VCALENDAR
VERSION:2.0
PRODID:icalendar-ruby
CALSCALE:GREGORIAN
METHOD:PUBLISH
BEGIN:VEVENT
DTSTAMP:20260422T224910Z
UID:181-794250@antioch640.org
DTSTART:20260920T130000Z
DTEND:20260920T140000Z
CLASS:PUBLIC
CREATED:20260422T184548
DESCRIPTION:Join us each week as we engage with one another in learning God
 's Word.\nWe meet both In-Person (640 S. Springfield Ave.\, Springfield\, 
 NJ 07081) and online.\nClick the link below to join us on Zoom.\nCLICK HER
 E TO JOIN
LAST-MODIFIED:20260422T184548
LOCATION:In Person & Zoom
SUMMARY:Sunday School
URL;VALUE=URI:https://www.antioch640.org/events/sunday-school--181/2026-09-
 20
ATTACH;FILENAME=sun school.jpg;FMTTYPE=image/jpeg:https://dq5pwpg1q8ru0.clo
 udfront.net/2026/02/22/22/42/25/0cbaeacc-1229-443e-8720-8a72c1ae60b2/sun%2
 0school.jpg
ATTACH;FILENAME=Reading List March 26.pdf;FMTTYPE=application/pdf:https://d
 q5pwpg1q8ru0.cloudfront.net/2026/02/22/23/16/55/bab68cfa-1b25-43eb-9107-d0
 3eee2f486d/Reading%20List%20March%2026.pdf
END:VEVENT
END:VCALENDAR
