BEGIN:VCALENDAR
VERSION:2.0
PRODID:icalendar-ruby
CALSCALE:GREGORIAN
METHOD:PUBLISH
BEGIN:VEVENT
DTSTAMP:20260420T222157Z
UID:193-779116@antioch640.org
DTSTART:20260422T233000Z
DTEND:20260423T003000Z
CLASS:PUBLIC
CREATED:20260416T154404
DESCRIPTION:Come for Mid-week Prayer\nWednesday\, April 22nd at 7:30pm\nIn-
 Person @ 640 S. Springfield Ave.\, Springfield\, NJ 07081\nor\non the Sund
 ay School Zoom\nclick link below to join virtually\nhttps://us02web.zoom.u
 s/j/88359721339?pwd=anpBbEY5ajVQbzhuOVFVUlpjYU9SQT09#success
LAST-MODIFIED:20260416T154404
LOCATION:Antioch Baptist Church\, 640 S. Springfield Ave.\, Springfield\, N
 J 07081
SUMMARY:ABC Corporate Prayer
URL;VALUE=URI:https://www.antioch640.org/events/abc-corporate-prayer--193/2
 026-04-22
ATTACH;FILENAME=PRAYER CORP.png;FMTTYPE=image/png:https://dq5pwpg1q8ru0.clo
 udfront.net/2026/04/16/19/37/22/d44e8403-b5eb-42de-8448-64618bd389aa/PRAYE
 R%20CORP.png
END:VEVENT
END:VCALENDAR
